BEGIN:VCALENDAR
VERSION:2.0
PRODID:-//Epicentre - ECPv6.15.20//NONSGML v1.0//EN
CALSCALE:GREGORIAN
METHOD:PUBLISH
X-WR-CALNAME:Epicentre
X-ORIGINAL-URL:https://epicentre.eu
X-WR-CALDESC:Évènements pour Epicentre
REFRESH-INTERVAL;VALUE=DURATION:PT1H
X-Robots-Tag:noindex
X-PUBLISHED-TTL:PT1H
BEGIN:VTIMEZONE
TZID:Europe/Paris
BEGIN:DAYLIGHT
TZOFFSETFROM:+0100
TZOFFSETTO:+0200
TZNAME:CEST
DTSTART:20250330T010000
END:DAYLIGHT
BEGIN:STANDARD
TZOFFSETFROM:+0200
TZOFFSETTO:+0100
TZNAME:CET
DTSTART:20251026T010000
END:STANDARD
BEGIN:DAYLIGHT
TZOFFSETFROM:+0100
TZOFFSETTO:+0200
TZNAME:CEST
DTSTART:20260329T010000
END:DAYLIGHT
BEGIN:STANDARD
TZOFFSETFROM:+0200
TZOFFSETTO:+0100
TZNAME:CET
DTSTART:20261025T010000
END:STANDARD
BEGIN:DAYLIGHT
TZOFFSETFROM:+0100
TZOFFSETTO:+0200
TZNAME:CEST
DTSTART:20270328T010000
END:DAYLIGHT
BEGIN:STANDARD
TZOFFSETFROM:+0200
TZOFFSETTO:+0100
TZNAME:CET
DTSTART:20271031T010000
END:STANDARD
END:VTIMEZONE
BEGIN:VEVENT
DTSTART;TZID=Europe/Paris:20260419T110000
DTEND;TZID=Europe/Paris:20260419T120000
DTSTAMP:20260421T101358
CREATED:20260413T183120Z
LAST-MODIFIED:20260415T181352Z
UID:25313-1776596400-1776600000@epicentre.eu
SUMMARY:C'est Dimanche Matin ! no.100
DESCRIPTION:Et oui\, déjà le centième C’est Dimanche Matin ! ce rendez-vous d’écoute avec ou sans artistes présent.es. Ce centième rendez-vous sans musique contemporaine ou expérimentale pour une fois….
URL:https://epicentre.eu/evenement/cest-dimanche-matin-no-100/
LOCATION:Epicentre\, territoire de l’écoute\, 5114 Rue Saint-Gervais\, Jarnages\, 23140\, France
CATEGORIES:Discussion,Ecoute
ATTACH;FMTTYPE=image/jpeg:https://epicentre.eu/wp-content/uploads/2026/04/gold-number-100-in-the-foreground-with-gold-confetti-falling-and-fireworks-behind-out-of-focus-against-a-dark-blue-background-3d-animation-free-video.jpg
ORGANIZER;CN="Ryoanji/Epicentre":MAILTO:contact@epicentre.eu
END:VEVENT
END:VCALENDAR