BEGIN:VCALENDAR
VERSION:2.0
PRODID:-//Epicentre - ECPv6.15.20//NONSGML v1.0//EN
CALSCALE:GREGORIAN
METHOD:PUBLISH
X-WR-CALNAME:Epicentre
X-ORIGINAL-URL:https://epicentre.eu
X-WR-CALDESC:Évènements pour Epicentre
REFRESH-INTERVAL;VALUE=DURATION:PT1H
X-Robots-Tag:noindex
X-PUBLISHED-TTL:PT1H
BEGIN:VTIMEZONE
TZID:Europe/Paris
BEGIN:DAYLIGHT
TZOFFSETFROM:+0100
TZOFFSETTO:+0200
TZNAME:CEST
DTSTART:20210328T010000
END:DAYLIGHT
BEGIN:STANDARD
TZOFFSETFROM:+0200
TZOFFSETTO:+0100
TZNAME:CET
DTSTART:20211031T010000
END:STANDARD
BEGIN:DAYLIGHT
TZOFFSETFROM:+0100
TZOFFSETTO:+0200
TZNAME:CEST
DTSTART:20220327T010000
END:DAYLIGHT
BEGIN:STANDARD
TZOFFSETFROM:+0200
TZOFFSETTO:+0100
TZNAME:CET
DTSTART:20221030T010000
END:STANDARD
BEGIN:DAYLIGHT
TZOFFSETFROM:+0100
TZOFFSETTO:+0200
TZNAME:CEST
DTSTART:20230326T010000
END:DAYLIGHT
BEGIN:STANDARD
TZOFFSETFROM:+0200
TZOFFSETTO:+0100
TZNAME:CET
DTSTART:20231029T010000
END:STANDARD
END:VTIMEZONE
BEGIN:VEVENT
DTSTART;TZID=Europe/Paris:20221215T100000
DTEND;TZID=Europe/Paris:20221215T103000
DTSTAMP:20260422T031519
CREATED:20221212T092030Z
LAST-MODIFIED:20230705T122557Z
UID:1051-1671098400-1671100200@epicentre.eu
SUMMARY:Miniature
DESCRIPTION:Solo de percussions de Lê Quan Ninh \nÀ la veille des vacances et des fêtes de fin d’année\, nous sommes heureux de vous convier à partager un moment précieux autour d’un concert miniature en solo du percussionniste Lê Quan Ninh : un moment chaleureux et unique de musique pour petites et grandes oreilles unies dans un même instant d’écoute. \nPercussions traditionnelles – bols\, tambours\, cymbales… – et matières végétales – bois\, feuilles\, branches… – se mêlent dans le geste du musicien\, un geste tout en retenue\, dans la délicatesse et la douceur du moment. \nOuvert à tous et à toutes – Gratuit\nRenseignements et réservations :\nÉpicentre : 06 73 11 61 07 ou médiathèque : 05 55 65 66 21 \nCette proposition s’inscrit dans ce laboratoire que nous avons ouvert sur la petite enfance\, avec des artistes et praticien.ne.s d’autres champs et avec les partenaires sur le territoire de la communauté de communes Creuse Confluence. \nEn tournée avec les structures petite enfance du territoire\, du 13 au 16 décembre à Boussac\, Nouhant\, Jarnages et Trois-Fonds.
URL:https://epicentre.eu/evenement/concert-miniature-3/
LOCATION:Salle socio-culturelle de Nouhant\, 12 rue des Ecoles\, Nouhant\, 23170\, France
CATEGORIES:Concert
ORGANIZER;CN="Ryoanji/Epicentre":MAILTO:contact@epicentre.eu
END:VEVENT
END:VCALENDAR