BEGIN:VCALENDAR
VERSION:2.0
PRODID:-//Epicentre - ECPv6.15.20//NONSGML v1.0//EN
CALSCALE:GREGORIAN
METHOD:PUBLISH
X-ORIGINAL-URL:https://epicentre.eu
X-WR-CALDESC:Évènements pour Epicentre
REFRESH-INTERVAL;VALUE=DURATION:PT1H
X-Robots-Tag:noindex
X-PUBLISHED-TTL:PT1H
BEGIN:VTIMEZONE
TZID:Europe/Paris
BEGIN:DAYLIGHT
TZOFFSETFROM:+0100
TZOFFSETTO:+0200
TZNAME:CEST
DTSTART:20210328T010000
END:DAYLIGHT
BEGIN:STANDARD
TZOFFSETFROM:+0200
TZOFFSETTO:+0100
TZNAME:CET
DTSTART:20211031T010000
END:STANDARD
BEGIN:DAYLIGHT
TZOFFSETFROM:+0100
TZOFFSETTO:+0200
TZNAME:CEST
DTSTART:20220327T010000
END:DAYLIGHT
BEGIN:STANDARD
TZOFFSETFROM:+0200
TZOFFSETTO:+0100
TZNAME:CET
DTSTART:20221030T010000
END:STANDARD
BEGIN:DAYLIGHT
TZOFFSETFROM:+0100
TZOFFSETTO:+0200
TZNAME:CEST
DTSTART:20230326T010000
END:DAYLIGHT
BEGIN:STANDARD
TZOFFSETFROM:+0200
TZOFFSETTO:+0100
TZNAME:CET
DTSTART:20231029T010000
END:STANDARD
END:VTIMEZONE
BEGIN:VEVENT
DTSTART;VALUE=DATE:20220818
DTEND;VALUE=DATE:20220821
DTSTAMP:20260422T091342
CREATED:20230705T125752Z
LAST-MODIFIED:20230705T125752Z
UID:1446-1660780800-1661039999@epicentre.eu
SUMMARY:Le Bruit de la Musique #10
DESCRIPTION:La dixième édition du festival Le Bruit de la Musique se tient du 18 au 20 août 2022. \nLe programme détaillé sur : www.lebruitdelamusique.org
URL:https://epicentre.eu/evenement/le-bruit-de-la-musique-10/
LOCATION:Domeyrot\, Bourg\, Domeyrot\, 23140\, France
CATEGORIES:Concert,Discussion,Participatif,Spectacle
ATTACH;FMTTYPE=image/jpeg:https://epicentre.eu/wp-content/uploads/2022/06/LBDLM10_A2_v3_WEB.jpg
ORGANIZER;CN="Ryoanji/Epicentre":MAILTO:contact@epicentre.eu
END:VEVENT
END:VCALENDAR