BEGIN:VCALENDAR
VERSION:2.0
PRODID:-//Epicentre - ECPv6.15.20//NONSGML v1.0//EN
CALSCALE:GREGORIAN
METHOD:PUBLISH
X-WR-CALNAME:Epicentre
X-ORIGINAL-URL:https://epicentre.eu
X-WR-CALDESC:Évènements pour Epicentre
REFRESH-INTERVAL;VALUE=DURATION:PT1H
X-Robots-Tag:noindex
X-PUBLISHED-TTL:PT1H
BEGIN:VTIMEZONE
TZID:UTC
BEGIN:STANDARD
TZOFFSETFROM:+0000
TZOFFSETTO:+0000
TZNAME:UTC
DTSTART:20210101T000000
END:STANDARD
END:VTIMEZONE
BEGIN:VEVENT
DTSTART;TZID=UTC:20221111T193000
DTEND;TZID=UTC:20221112T210000
DTSTAMP:20260422T014049
CREATED:20221103T082714Z
LAST-MODIFIED:20221103T082714Z
UID:970-1668195000-1668286800@epicentre.eu
SUMMARY:Brauchen - Festival Wien Modern
DESCRIPTION:Dans le cadre du festival Wien Modern\, les 11 et 12 novembre 2022\, au Reaktor à Vienne (Autriche) l’ensemble]h[iatus au grand complet participe à une création collective réunissant plusieurs compositeurs (Peter Jakober\, Marco Döttlinger\, Carola Bauckholt\, Alexander Martinz) dans un environnement chorégraphique\, vidéo et interactif de Thomas Hörl\, Anna Resch et Peter Kozek. \nDepuis la nuit des temps\, les gens se réunissent pour vivre ensemble une expérience musicale. Les coutumes\, les rituels et les normes changent – mais la musique est bien plus que ce que l’on croit. Brauchen (un jeu de mots sur les mots allemands pour « avoir besoin » et « coutumes ») est une soirée de concert transmédiatique dans une grande production collective du Reaktor. \nCo-production Reaktor\, Wien Modern et Association Ryoanji\nAvec l’aimable soutien de Stadt Wien Kultur\, BMKÖS\, SKE der Austro Mechana\, Otto Mauer Fonds et l’Institut Français d’Autriche Wien
URL:https://epicentre.eu/evenement/brauchen-festival-wien-modern/
LOCATION:Reaktor\, Geblergasse 40\, Wien\, 1170\, Autriche
CATEGORIES:Concert
ATTACH;FMTTYPE=image/jpeg:https://epicentre.eu/wp-content/uploads/2022/11/221111_2022-brauchen_brauchen_1036_C_thomas-hoerl-und-sebastian-jobst.jpg
ORGANIZER;CN="Wien Modern":MAILTO:https://www.wienmodern.at/en
END:VEVENT
END:VCALENDAR