BEGIN:VCALENDAR
VERSION:2.0
PRODID:-//Epicentre - ECPv6.15.20//NONSGML v1.0//EN
CALSCALE:GREGORIAN
METHOD:PUBLISH
X-WR-CALNAME:Epicentre
X-ORIGINAL-URL:https://epicentre.eu
X-WR-CALDESC:Évènements pour Epicentre
REFRESH-INTERVAL;VALUE=DURATION:PT1H
X-Robots-Tag:noindex
X-PUBLISHED-TTL:PT1H
BEGIN:VTIMEZONE
TZID:UTC
BEGIN:STANDARD
TZOFFSETFROM:+0000
TZOFFSETTO:+0000
TZNAME:UTC
DTSTART:20210101T000000
END:STANDARD
END:VTIMEZONE
BEGIN:VEVENT
DTSTART;TZID=UTC:20221015T103000
DTEND;TZID=UTC:20221015T113000
DTSTAMP:20260422T043513
CREATED:20221005T082312Z
LAST-MODIFIED:20221005T082312Z
UID:802-1665829800-1665833400@epicentre.eu
SUMMARY:Ecoutilles et Papilles #2 - Kamidopof ...et autres surprises
DESCRIPTION:rdv sur la place du village (ou à l’église en cas de pluie) \n[marionnette à mystère] \n \nKamidopof …et autres surprises \nTout public à partir de 3 ans \nC’est une marionnette castelet : un manteau sans tête\, une tête sans jambe\, une tête pleine de… de bras ? C’est un être étrange\, un spectre\, un ogre\, une présence qui fascine et qui gratte. Inspiré des nouvelles de Saint-Pétersbourg de Gogol OU des créatures fantastiques japonaises aperçues dans Le voyage de Chihiro de Miyazaki\, cet être a la faculté\, dans un temps suspendu\, de nous divertir en détournant notre esprit vers l’ailleurs. \nCie La femme invisible. De et avec Léa Ros. Création sonore et régie : Eric Banse
URL:https://epicentre.eu/evenement/ecoutilles-et-papilles-2-kamidopof-et-autres-surprises/
LOCATION:Pionnat\, Pionnat\, 23140\, France
CATEGORIES:Spectacle
ORGANIZER;CN="Ryoanji/Epicentre":MAILTO:contact@epicentre.eu
END:VEVENT
END:VCALENDAR