BEGIN:VCALENDAR
VERSION:2.0
PRODID:-//Epicentre - ECPv6.15.20//NONSGML v1.0//EN
CALSCALE:GREGORIAN
METHOD:PUBLISH
X-ORIGINAL-URL:https://epicentre.eu
X-WR-CALDESC:Évènements pour Epicentre
REFRESH-INTERVAL;VALUE=DURATION:PT1H
X-Robots-Tag:noindex
X-PUBLISHED-TTL:PT1H
BEGIN:VTIMEZONE
TZID:UTC
BEGIN:STANDARD
TZOFFSETFROM:+0000
TZOFFSETTO:+0000
TZNAME:UTC
DTSTART:20210101T000000
END:STANDARD
END:VTIMEZONE
BEGIN:VEVENT
DTSTART;TZID=UTC:20221012T160000
DTEND;TZID=UTC:20221012T173000
DTSTAMP:20260422T043543
CREATED:20221005T081719Z
LAST-MODIFIED:20221005T081803Z
UID:799-1665590400-1665595800@epicentre.eu
SUMMARY:Ecoutilles et Papilles #2 - Laboratorium
DESCRIPTION:[concert-goûter] \nLaboratorium\nTout public à partir de 3 ans \nDrôles\, surprenantes\, hilarantes mais aussi très sérieuses\, les pièces de Laboratorium\, œuvre du compositeur Vinko GLobokar\, ne laissent jamais le musicien tranquille. C’est un véritable laboratoire à ciel ouvert dans lequel toute\nla machinerie de la pratique musicale serait dévoilée. Parmi les 55 pièces qui composent l’œuvre\, les quatre musiciens en ont choisi quelques-unes pour le plaisir des petits comme des grands. \nAvec l’ensemble ]h[iatus : Martine Altenburger\, Fabrice Charles\, Carl Ludwig Hübsch et Lê Quan Ninh
URL:https://epicentre.eu/evenement/ecoutilles-et-papilles-2-laboratorium/
LOCATION:La Taupinière\, Bourg\, Jarnages\, 23400\, France
CATEGORIES:Concert
ORGANIZER;CN="Ryoanji/Epicentre":MAILTO:contact@epicentre.eu
END:VEVENT
END:VCALENDAR