BEGIN:VCALENDAR
VERSION:2.0
PRODID:-//Epicentre - ECPv6.15.20//NONSGML v1.0//EN
CALSCALE:GREGORIAN
METHOD:PUBLISH
X-ORIGINAL-URL:https://epicentre.eu
X-WR-CALDESC:Évènements pour Epicentre
REFRESH-INTERVAL;VALUE=DURATION:PT1H
X-Robots-Tag:noindex
X-PUBLISHED-TTL:PT1H
BEGIN:VTIMEZONE
TZID:Europe/Paris
BEGIN:DAYLIGHT
TZOFFSETFROM:+0100
TZOFFSETTO:+0200
TZNAME:CEST
DTSTART:20210328T010000
END:DAYLIGHT
BEGIN:STANDARD
TZOFFSETFROM:+0200
TZOFFSETTO:+0100
TZNAME:CET
DTSTART:20211031T010000
END:STANDARD
BEGIN:DAYLIGHT
TZOFFSETFROM:+0100
TZOFFSETTO:+0200
TZNAME:CEST
DTSTART:20220327T010000
END:DAYLIGHT
BEGIN:STANDARD
TZOFFSETFROM:+0200
TZOFFSETTO:+0100
TZNAME:CET
DTSTART:20221030T010000
END:STANDARD
BEGIN:DAYLIGHT
TZOFFSETFROM:+0100
TZOFFSETTO:+0200
TZNAME:CEST
DTSTART:20230326T010000
END:DAYLIGHT
BEGIN:STANDARD
TZOFFSETFROM:+0200
TZOFFSETTO:+0100
TZNAME:CET
DTSTART:20231029T010000
END:STANDARD
END:VTIMEZONE
BEGIN:VEVENT
DTSTART;TZID=Europe/Paris:20220930T193000
DTEND;TZID=Europe/Paris:20220930T233000
DTSTAMP:20260422T043641
CREATED:20230705T124849Z
LAST-MODIFIED:20230705T124849Z
UID:1442-1664566200-1664580600@epicentre.eu
SUMMARY:Coïncidences silencieuses #2 | Danse & Percussion
DESCRIPTION:// À 19h30\nMoeno Wakamatsu & Lê Quan Ninh \nMoeno Wakamatsu est une grande figure de la danse butô. Elle dirige en Basse-Normandie\, un lieu de pratique et de transmission fondé par le maître Masaki Iwana.\nLeur rencontre avec Lê Quan Ninh a été révélatrice d’une familiarité et d’une intimité artistique rare. C’est comme s’ils s’étaient trouvés sur la ligne de crête de leur discipline respective\, à pouvoir enfin être au plus près d’une poésie de l’instant où toute chose apparaît plutôt que d’être montrée. \n// à 21h\nTwo Stones \nAvec \nMarie Cambois (danse)\nLê Quan Ninh (percussion)\nMathieu Chamagne (son)\nChristophe Cardoen (lumière)\nSur la partition Two Stones de Michael Pisaro \nEn frappant ou frottant deux pierres l’une contre l’autre\, Two Stones\, partition minimaliste du compositeur américain Michael Pisaro\, déploie un motif rythmique dans une étendue immense et paisible. \nLa danseuse Marie Cambois et le percussionniste Lê Quan Ninh\, accompagnés par Mathieu Chamagne au son et Christophe Cardoen à la lumière se sont emparés de l’œuvre dans un duo où le dialogue du corps et du son se gorge de puissance tellurique et de fluidité minérale. \nProduction : La distillerie collective – Coproduction : CCAM scène nationale de Vandœuvre et Ryoanji / Épicentre en Creuse – Avec le soutien de la Région Grand-Est et de la Ville de Nancy. La distillerie collective bénéficie de l’aide à la structuration en Danse de la DRAC Grand-Est.
URL:https://epicentre.eu/evenement/coincidences-silencieuses-2-danse-percussion/
LOCATION:Les Ateliers de la Mine\, 2 allée de la mine\, Lavaveix-les-Mines\, 23150\, France
CATEGORIES:Spectacle
ATTACH;FMTTYPE=image/jpeg:https://epicentre.eu/wp-content/uploads/2022/09/Affiche-pdf.jpeg
ORGANIZER;CN="Ryoanji/Epicentre":MAILTO:contact@epicentre.eu
END:VEVENT
END:VCALENDAR